BEGIN:VCALENDAR
VERSION:2.0
PRODID:icalendar-ruby
CALSCALE:GREGORIAN
METHOD:PUBLISH
BEGIN:VEVENT
DTSTAMP:20260424T070210Z
UID:509-2677283@praisechurchoflouisiana.com
DTSTART:20260424T040000Z
DTEND:20260424T050000Z
CLASS:PUBLIC
CREATED:20260423T222603
DESCRIPTION:We are honored to share that Pastor Beverly Bilbo will be minis
 tering as a guest speaker at an upcoming special event hosted by Believers
  Faith Ministry in Gonzales\, Louisiana.\nJoin us for a powerful morning o
 f ministry and encouragement at the\n“For Your Shame\, I Will Give You D
 OUBLE” Brunch. Pastor Beverly will be bringing a timely word of restorat
 ion\, healing\, and breakthrough.\nThis is a wonderful opportunity to enco
 unter the presence of God and receive a fresh impartation as you step into
  a season of DOUBLE.\n Hosted by: Believers Faith Ministry\n Location: 120
 42 W Main St\, Gonzales\, LA 70737\n Date: Saturday\, June 27\, 2026\n Tim
 e: 9:00 AM
LAST-MODIFIED:20260423T222603
LOCATION:Believers Faith Ministry 12042 W Main St\, Gonzales\, LA 70737
SUMMARY:Pastor Beverly @ Believers Faith Ministry
URL;VALUE=URI:https://www.praisechurchoflouisiana.com/events/pastor-beverly
 -believers-faith-ministry/2026-04-23
ATTACH;FILENAME=ChatGPT-Image-Apr-23-2026-10_21_07-PM.png;FMTTYPE=image/png
 :https://dq5pwpg1q8ru0.cloudfront.net/2026/04/24/03/26/02/22c0365c-8cc8-4b
 6f-be25-3ba2cc91ceaa/ChatGPT-Image-Apr-23-2026-10_21_07-PM.png
END:VEVENT
END:VCALENDAR
