BEGIN:VCALENDAR
VERSION:2.0
PRODID:icalendar-ruby
CALSCALE:GREGORIAN
METHOD:PUBLISH
BEGIN:VEVENT
DTSTAMP:20260425T013912Z
UID:433-2685011@praisechurchoflouisiana.com
DTSTART:20261018T150000Z
DTEND:20261018T160000Z
CLASS:PUBLIC
CREATED:20260424T195224
DESCRIPTION: POWER UP – Pre-Service Teaching &amp\; Intercessory Prayer S
 undays | 10:00 – 10:50 AMPraise Church of New Orleans\nJoin Mary Bangs e
 ach Sunday morning for a powerful time of teaching and intercessory prayer
  before our main service. This is more than a prayer meeting—it’s a sp
 iritual charge-up!\nTogether\, we will:\n\n\nPray for Praise Church\, our 
 pastors\, and every service\n\n\nIntercede for salvation\, healing\, and t
 ransformation in lives\n\n\nDeclare the power of the Holy Spirit over our 
 church and community\n\n\nPrepare our hearts to experience God’s presenc
 e in a greater way\n\n\nThis is your opportunity to step into the prayer r
 oom\, stand in the gap\, and see God move before the first note of worship
  is even played. Come expectant\, come united\, and let’s Power Up for w
 hat God is about to do!
LAST-MODIFIED:20260424T195224
LOCATION:Praise Church of New Orleans 4433 Chastant St. Metairie\, LA 70006
SUMMARY:"Power Up" w. Mary Bangs 
URL;VALUE=URI:https://www.praisechurchoflouisiana.com/events/power-up-w-mar
 y-bangs/2026-10-18
ATTACH;FILENAME=Yellow-Simple-Workout-YouTube-Thumbnail-2.png;FMTTYPE=image
 /png:https://dq5pwpg1q8ru0.cloudfront.net/2025/08/12/18/28/03/377cfa94-4a3
 4-45b7-a61e-94550d739dd6/Yellow-Simple-Workout-YouTube-Thumbnail-2.png
END:VEVENT
END:VCALENDAR
