BEGIN:VCALENDAR
VERSION:2.0
PRODID:icalendar-ruby
CALSCALE:GREGORIAN
METHOD:PUBLISH
BEGIN:VEVENT
DTSTAMP:20260422T112336Z
UID:508-2599140@praisechurchoflouisiana.com
DTSTART:20260511T170000Z
DTEND:20260512T180000Z
CLASS:PUBLIC
CREATED:20260414T225840
DESCRIPTION:\n
LAST-MODIFIED:20260414T225840
LOCATION:City Pork 18143 Perkins Rd E\, Baton Rouge\, LA 70810
SUMMARY:Unlocked Leadership Edition Luncheon
URL;VALUE=URI:https://www.praisechurchoflouisiana.com/events/unlocked-leade
 rship-edition-luncheon--508/2026-05-11
ATTACH;FILENAME=669793149_18080968202614985_8168504473758232991_n.jpg;FMTTY
 PE=image/jpeg:https://dq5pwpg1q8ru0.cloudfront.net/2026/04/15/03/58/23/dd3
 39396-e88c-4b38-a64a-0ae2a53854bf/669793149_18080968202614985_816850447375
 8232991_n.jpg
END:VEVENT
END:VCALENDAR
